Package: SubCellBarCode Version: 1.24.0 Command: /Library/Frameworks/R.framework/Resources/bin/R CMD build --keep-empty-dirs --no-resave-data SubCellBarCode StartedAt: 2025-10-13 23:04:44 -0400 (Mon, 13 Oct 2025) EndedAt: 2025-10-13 23:12:15 -0400 (Mon, 13 Oct 2025) EllapsedTime: 450.6 seconds RetCode: 0 Status: OK PackageFile: SubCellBarCode_1.24.0.tar.gz PackageFileSize: 2.34 MiB