Package: SubCellBarCode Version: 1.24.0 Command: rm -rf SubCellBarCode.buildbin-libdir && mkdir SubCellBarCode.buildbin-libdir && /Users/biocbuild/BBS/utils/build-universal.sh SubCellBarCode_1.24.0.tar.gz /Library/Frameworks/R.framework/Resources/bin/R SubCellBarCode.buildbin-libdir StartedAt: 2025-10-14 14:54:43 -0400 (Tue, 14 Oct 2025) EndedAt: 2025-10-14 14:55:39 -0400 (Tue, 14 Oct 2025) EllapsedTime: 56.5 seconds RetCode: 0 Status: OK PackageFile: SubCellBarCode_1.24.0.tgz PackageFileSize: 2.741 MiB