Package: SubCellBarCode Version: 1.24.0 Command: /home/biocbuild/R/R/bin/R CMD INSTALL SubCellBarCode StartedAt: 2025-10-13 20:39:59 -0000 (Mon, 13 Oct 2025) EndedAt: 2025-10-13 20:40:34 -0000 (Mon, 13 Oct 2025) EllapsedTime: 34.3 seconds RetCode: 0 Status: OK