Package: SubCellBarCode Version: 1.24.0 Command: /home/biocbuild/R/R/bin/R CMD check --install=check:SubCellBarCode.install-out.txt --library=/home/biocbuild/R/R/site-library --no-vignettes --timings SubCellBarCode_1.24.0.tar.gz StartedAt: 2025-10-14 15:01:42 -0000 (Tue, 14 Oct 2025) EndedAt: 2025-10-14 15:07:59 -0000 (Tue, 14 Oct 2025) EllapsedTime: 377.6 seconds RetCode: 0 Status: WARNINGS CheckDir: SubCellBarCode.Rcheck Warnings: 1