Package: SubCellBarCode Version: 1.24.0 Command: /home/biocbuild/R/R/bin/R CMD build --keep-empty-dirs --no-resave-data SubCellBarCode StartedAt: 2025-10-14 05:11:32 -0000 (Tue, 14 Oct 2025) EndedAt: 2025-10-14 05:18:15 -0000 (Tue, 14 Oct 2025) EllapsedTime: 403.2 seconds RetCode: 0 Status: OK PackageFile: SubCellBarCode_1.24.0.tar.gz PackageFileSize: 2.284 MiB