Package: SubCellBarCode Version: 1.24.0 Command: /Library/Frameworks/R.framework/Resources/bin/R CMD INSTALL SubCellBarCode StartedAt: 2025-10-13 15:47:53 -0400 (Mon, 13 Oct 2025) EndedAt: 2025-10-13 15:48:19 -0400 (Mon, 13 Oct 2025) EllapsedTime: 26.6 seconds RetCode: 0 Status: OK