Package: SubCellBarCode Version: 1.24.0 Command: /Library/Frameworks/R.framework/Resources/bin/R CMD check --install=check:SubCellBarCode.install-out.txt --library=/Library/Frameworks/R.framework/Resources/library --no-vignettes --timings SubCellBarCode_1.24.0.tar.gz StartedAt: 2025-10-15 14:36:51 -0400 (Wed, 15 Oct 2025) EndedAt: 2025-10-15 14:41:07 -0400 (Wed, 15 Oct 2025) EllapsedTime: 255.1 seconds RetCode: 0 Status: WARNINGS CheckDir: SubCellBarCode.Rcheck Warnings: 1