Package: StructuralVariantAnnotation Version: 1.24.0 Command: /home/biocbuild/bbs-3.21-bioc/R/bin/R CMD check --install=check:StructuralVariantAnnotation.install-out.txt --library=/home/biocbuild/bbs-3.21-bioc/R/site-library --timings StructuralVariantAnnotation_1.24.0.tar.gz StartedAt: 2025-10-16 04:10:05 -0400 (Thu, 16 Oct 2025) EndedAt: 2025-10-16 04:18:18 -0400 (Thu, 16 Oct 2025) EllapsedTime: 493.6 seconds RetCode: 0 Status: OK CheckDir: StructuralVariantAnnotation.Rcheck Warnings: 0