Package: StructuralVariantAnnotation Version: 1.24.0 Command: /Library/Frameworks/R.framework/Resources/bin/R CMD INSTALL StructuralVariantAnnotation StartedAt: 2025-10-13 16:30:04 -0400 (Mon, 13 Oct 2025) EndedAt: 2025-10-13 16:31:29 -0400 (Mon, 13 Oct 2025) EllapsedTime: 85.3 seconds RetCode: 0 Status: OK