Package: StructuralVariantAnnotation Version: 1.24.0 Command: /Library/Frameworks/R.framework/Resources/bin/R CMD check --install=check:StructuralVariantAnnotation.install-out.txt --library=/Library/Frameworks/R.framework/Resources/library --no-vignettes --timings StructuralVariantAnnotation_1.24.0.tar.gz StartedAt: 2025-10-14 11:16:17 -0400 (Tue, 14 Oct 2025) EndedAt: 2025-10-14 11:33:04 -0400 (Tue, 14 Oct 2025) EllapsedTime: 1007.0 seconds RetCode: 0 Status: OK CheckDir: StructuralVariantAnnotation.Rcheck Warnings: 0