Package: StructuralVariantAnnotation Version: 1.24.0 Command: /Library/Frameworks/R.framework/Resources/bin/R CMD build --keep-empty-dirs --no-resave-data StructuralVariantAnnotation StartedAt: 2025-10-13 23:04:38 -0400 (Mon, 13 Oct 2025) EndedAt: 2025-10-13 23:07:24 -0400 (Mon, 13 Oct 2025) EllapsedTime: 166.0 seconds RetCode: 0 Status: OK PackageFile: StructuralVariantAnnotation_1.24.0.tar.gz PackageFileSize: 964.3 KiB