Package: StructuralVariantAnnotation Version: 1.24.0 Command: /home/biocbuild/R/R/bin/R CMD INSTALL StructuralVariantAnnotation StartedAt: 2025-10-13 21:07:13 -0000 (Mon, 13 Oct 2025) EndedAt: 2025-10-13 21:08:10 -0000 (Mon, 13 Oct 2025) EllapsedTime: 57.6 seconds RetCode: 0 Status: OK