Package: StructuralVariantAnnotation Version: 1.24.0 Command: /home/biocbuild/R/R/bin/R CMD check --install=check:StructuralVariantAnnotation.install-out.txt --library=/home/biocbuild/R/R/site-library --no-vignettes --timings StructuralVariantAnnotation_1.24.0.tar.gz StartedAt: 2025-10-14 15:01:17 -0000 (Tue, 14 Oct 2025) EndedAt: 2025-10-14 15:13:36 -0000 (Tue, 14 Oct 2025) EllapsedTime: 739.1 seconds RetCode: 0 Status: OK CheckDir: StructuralVariantAnnotation.Rcheck Warnings: 0