Package: StructuralVariantAnnotation Version: 1.24.0 Command: /home/biocbuild/R/R/bin/R CMD build --keep-empty-dirs --no-resave-data StructuralVariantAnnotation StartedAt: 2025-10-14 05:11:31 -0000 (Tue, 14 Oct 2025) EndedAt: 2025-10-14 05:13:22 -0000 (Tue, 14 Oct 2025) EllapsedTime: 111.0 seconds RetCode: 0 Status: OK PackageFile: StructuralVariantAnnotation_1.24.0.tar.gz PackageFileSize: 862.7 KiB