Package: Structstrings Version: 1.24.0 Command: /home/biocbuild/bbs-3.21-bioc/R/bin/R CMD build --keep-empty-dirs --no-resave-data Structstrings StartedAt: 2025-10-15 20:11:26 -0400 (Wed, 15 Oct 2025) EndedAt: 2025-10-15 20:11:53 -0400 (Wed, 15 Oct 2025) EllapsedTime: 27.0 seconds RetCode: 0 Status: OK PackageFile: Structstrings_1.24.0.tar.gz PackageFileSize: 366.9 KiB