Package: Structstrings Version: 1.24.0 Command: /home/biocbuild/R/R/bin/R CMD build --keep-empty-dirs --no-resave-data Structstrings StartedAt: 2025-10-14 05:11:13 -0000 (Tue, 14 Oct 2025) EndedAt: 2025-10-14 05:11:53 -0000 (Tue, 14 Oct 2025) EllapsedTime: 40.0 seconds RetCode: 0 Status: OK PackageFile: Structstrings_1.24.0.tar.gz PackageFileSize: 438.5 KiB