Package: Structstrings Version: 1.24.0 Command: /Library/Frameworks/R.framework/Resources/bin/R CMD INSTALL Structstrings StartedAt: 2025-10-13 15:44:51 -0400 (Mon, 13 Oct 2025) EndedAt: 2025-10-13 15:45:12 -0400 (Mon, 13 Oct 2025) EllapsedTime: 20.8 seconds RetCode: 0 Status: OK