Package: Statial Version: 1.10.3 Command: /home/biocbuild/R/R/bin/R CMD INSTALL Statial StartedAt: 2025-10-13 20:37:28 -0000 (Mon, 13 Oct 2025) EndedAt: 2025-10-13 20:38:11 -0000 (Mon, 13 Oct 2025) EllapsedTime: 42.9 seconds RetCode: 0 Status: OK