Package: StabMap Version: 1.2.0 Command: /home/biocbuild/bbs-3.21-bioc/R/bin/R CMD INSTALL StabMap StartedAt: 2025-10-15 15:53:47 -0400 (Wed, 15 Oct 2025) EndedAt: 2025-10-15 15:54:06 -0400 (Wed, 15 Oct 2025) EllapsedTime: 19.5 seconds RetCode: 0 Status: OK