Package: StabMap Version: 1.2.0 Command: rm -rf StabMap.buildbin-libdir && mkdir StabMap.buildbin-libdir && /Users/biocbuild/BBS/utils/build-universal.sh StabMap_1.2.0.tar.gz /Library/Frameworks/R.framework/Resources/bin/R StabMap.buildbin-libdir StartedAt: 2025-10-14 14:54:07 -0400 (Tue, 14 Oct 2025) EndedAt: 2025-10-14 14:54:57 -0400 (Tue, 14 Oct 2025) EllapsedTime: 50.3 seconds RetCode: 0 Status: OK PackageFile: StabMap_1.2.0.tgz PackageFileSize: 1.773 MiB