Package: StabMap Version: 1.2.0 Command: /home/biocbuild/R/R/bin/R CMD INSTALL StabMap StartedAt: 2025-10-13 21:13:26 -0000 (Mon, 13 Oct 2025) EndedAt: 2025-10-13 21:13:54 -0000 (Mon, 13 Oct 2025) EllapsedTime: 28.8 seconds RetCode: 0 Status: OK