Package: StabMap Version: 1.2.0 Command: /Library/Frameworks/R.framework/Resources/bin/R CMD INSTALL StabMap StartedAt: 2025-10-13 18:11:11 -0400 (Mon, 13 Oct 2025) EndedAt: 2025-10-13 18:11:36 -0400 (Mon, 13 Oct 2025) EllapsedTime: 24.3 seconds RetCode: 0 Status: OK