Package: SpotSweeper Version: 1.4.0 Command: /home/biocbuild/R/R/bin/R CMD INSTALL SpotSweeper StartedAt: 2025-10-13 20:37:11 -0000 (Mon, 13 Oct 2025) EndedAt: 2025-10-13 20:38:10 -0000 (Mon, 13 Oct 2025) EllapsedTime: 58.8 seconds RetCode: 0 Status: OK