Package: SpotSweeper Version: 1.4.0 Command: /home/biocbuild/R/R/bin/R CMD build --keep-empty-dirs --no-resave-data SpotSweeper StartedAt: 2025-10-14 05:05:18 -0000 (Tue, 14 Oct 2025) EndedAt: 2025-10-14 05:09:06 -0000 (Tue, 14 Oct 2025) EllapsedTime: 228.1 seconds RetCode: 0 Status: OK PackageFile: SpotSweeper_1.4.0.tar.gz PackageFileSize: 3.212 MiB