Package: SplicingGraphs Version: 1.48.0 Command: /home/biocbuild/R/R/bin/R CMD check --install=check:SplicingGraphs.install-out.txt --library=/home/biocbuild/R/R/site-library --no-vignettes --timings SplicingGraphs_1.48.0.tar.gz StartedAt: 2025-10-14 14:47:48 -0000 (Tue, 14 Oct 2025) EndedAt: 2025-10-14 14:58:55 -0000 (Tue, 14 Oct 2025) EllapsedTime: 667.9 seconds RetCode: 0 Status: WARNINGS CheckDir: SplicingGraphs.Rcheck Warnings: 2