Package: SplicingGraphs Version: 1.48.0 Command: /home/biocbuild/R/R/bin/R CMD build --keep-empty-dirs --no-resave-data SplicingGraphs StartedAt: 2025-10-14 05:02:04 -0000 (Tue, 14 Oct 2025) EndedAt: 2025-10-14 05:05:40 -0000 (Tue, 14 Oct 2025) EllapsedTime: 216.1 seconds RetCode: 0 Status: OK PackageFile: SplicingGraphs_1.48.0.tar.gz PackageFileSize: 46.09 MiB