Package: SplicingFactory Version: 1.16.0 Command: /Library/Frameworks/R.framework/Resources/bin/R CMD build --keep-empty-dirs --no-resave-data SplicingFactory StartedAt: 2025-10-13 22:57:10 -0400 (Mon, 13 Oct 2025) EndedAt: 2025-10-13 22:58:25 -0400 (Mon, 13 Oct 2025) EllapsedTime: 75.0 seconds RetCode: 0 Status: OK PackageFile: SplicingFactory_1.16.0.tar.gz PackageFileSize: 790.9 KiB