Package: SplicingFactory Version: 1.16.0 Command: rm -rf SplicingFactory.buildbin-libdir && mkdir SplicingFactory.buildbin-libdir && /Users/biocbuild/BBS/utils/build-universal.sh SplicingFactory_1.16.0.tar.gz /Library/Frameworks/R.framework/Resources/bin/R SplicingFactory.buildbin-libdir StartedAt: 2025-10-14 14:52:41 -0400 (Tue, 14 Oct 2025) EndedAt: 2025-10-14 14:53:31 -0400 (Tue, 14 Oct 2025) EllapsedTime: 49.6 seconds RetCode: 0 Status: OK PackageFile: SplicingFactory_1.16.0.tgz PackageFileSize: 828.1 KiB