Package: SplicingFactory Version: 1.16.0 Command: /home/biocbuild/R/R/bin/R CMD build --keep-empty-dirs --no-resave-data SplicingFactory StartedAt: 2025-10-14 05:01:59 -0000 (Tue, 14 Oct 2025) EndedAt: 2025-10-14 05:02:49 -0000 (Tue, 14 Oct 2025) EllapsedTime: 50.0 seconds RetCode: 0 Status: OK PackageFile: SplicingFactory_1.16.0.tar.gz PackageFileSize: 759.9 KiB