Package: SplicingFactory Version: 1.16.0 Command: /Library/Frameworks/R.framework/Resources/bin/R CMD build --keep-empty-dirs --no-resave-data SplicingFactory StartedAt: 2025-10-14 10:17:08 -0400 (Tue, 14 Oct 2025) EndedAt: 2025-10-14 10:17:52 -0400 (Tue, 14 Oct 2025) EllapsedTime: 43.6 seconds RetCode: 0 Status: OK PackageFile: SplicingFactory_1.16.0.tar.gz PackageFileSize: 791.1 KiB