Package: SplicingFactory Version: 1.16.0 Command: rm -rf SplicingFactory.buildbin-libdir && mkdir SplicingFactory.buildbin-libdir && /Users/biocbuild/BBS/utils/build-universal.sh SplicingFactory_1.16.0.tar.gz /Library/Frameworks/R.framework/Resources/bin/R SplicingFactory.buildbin-libdir StartedAt: 2025-10-15 20:40:57 -0400 (Wed, 15 Oct 2025) EndedAt: 2025-10-15 20:41:24 -0400 (Wed, 15 Oct 2025) EllapsedTime: 26.2 seconds RetCode: 0 Status: OK PackageFile: SplicingFactory_1.16.0.tgz PackageFileSize: 828.3 KiB