Package: SpliceWiz Version: 1.10.1 Command: /home/biocbuild/bbs-3.21-bioc/R/bin/R CMD build --keep-empty-dirs --no-resave-data SpliceWiz StartedAt: 2025-10-15 20:06:09 -0400 (Wed, 15 Oct 2025) EndedAt: 2025-10-15 20:12:05 -0400 (Wed, 15 Oct 2025) EllapsedTime: 356.4 seconds RetCode: 0 Status: OK PackageFile: SpliceWiz_1.10.1.tar.gz PackageFileSize: 4.822 MiB