Package: SpliceWiz Version: 1.10.1 Command: /home/biocbuild/R/R/bin/R CMD build --keep-empty-dirs --no-resave-data SpliceWiz StartedAt: 2025-10-14 05:01:44 -0000 (Tue, 14 Oct 2025) EndedAt: 2025-10-14 05:10:11 -0000 (Tue, 14 Oct 2025) EllapsedTime: 507.2 seconds RetCode: 0 Status: OK PackageFile: SpliceWiz_1.10.1.tar.gz PackageFileSize: 4.75 MiB