Package: SpectralTAD Version: 1.24.0 Command: /home/biocbuild/R/R/bin/R CMD INSTALL SpectralTAD StartedAt: 2025-10-13 20:46:58 -0000 (Mon, 13 Oct 2025) EndedAt: 2025-10-13 20:47:14 -0000 (Mon, 13 Oct 2025) EllapsedTime: 15.7 seconds RetCode: 0 Status: OK