Package: SpectralTAD Version: 1.24.0 Command: /home/biocbuild/R/R/bin/R CMD build --keep-empty-dirs --no-resave-data SpectralTAD StartedAt: 2025-10-14 05:00:31 -0000 (Tue, 14 Oct 2025) EndedAt: 2025-10-14 05:02:55 -0000 (Tue, 14 Oct 2025) EllapsedTime: 144.1 seconds RetCode: 0 Status: OK PackageFile: SpectralTAD_1.24.0.tar.gz PackageFileSize: 1.515 MiB