Package: SpectraQL Version: 1.2.1 Command: /home/biocbuild/R/R/bin/R CMD build --keep-empty-dirs --no-resave-data SpectraQL StartedAt: 2025-10-14 05:00:32 -0000 (Tue, 14 Oct 2025) EndedAt: 2025-10-14 05:01:01 -0000 (Tue, 14 Oct 2025) EllapsedTime: 29.0 seconds RetCode: 0 Status: OK PackageFile: SpectraQL_1.2.1.tar.gz PackageFileSize: 474.2 KiB