Package: SpectraQL Version: 1.2.1 Command: /Library/Frameworks/R.framework/Resources/bin/R CMD INSTALL SpectraQL StartedAt: 2025-10-13 15:40:00 -0400 (Mon, 13 Oct 2025) EndedAt: 2025-10-13 15:40:11 -0400 (Mon, 13 Oct 2025) EllapsedTime: 10.7 seconds RetCode: 0 Status: OK