Package: SpectraQL Version: 1.2.1 Command: /Library/Frameworks/R.framework/Resources/bin/R CMD build --keep-empty-dirs --no-resave-data SpectraQL StartedAt: 2025-10-14 10:10:37 -0400 (Tue, 14 Oct 2025) EndedAt: 2025-10-14 10:11:06 -0400 (Tue, 14 Oct 2025) EllapsedTime: 28.5 seconds RetCode: 0 Status: OK PackageFile: SpectraQL_1.2.1.tar.gz PackageFileSize: 407.6 KiB