Package: SpatialOmicsOverlay Version: 1.8.1 Command: /home/biocbuild/bbs-3.21-bioc/R/bin/R CMD build --keep-empty-dirs --no-resave-data SpatialOmicsOverlay StartedAt: 2025-10-15 20:04:27 -0400 (Wed, 15 Oct 2025) EndedAt: 2025-10-15 20:11:45 -0400 (Wed, 15 Oct 2025) EllapsedTime: 437.5 seconds RetCode: 0 Status: OK PackageFile: SpatialOmicsOverlay_1.8.1.tar.gz PackageFileSize: 4.351 MiB