Package: SpatialOmicsOverlay Version: 1.8.1 Command: /home/biocbuild/R/R/bin/R CMD build --keep-empty-dirs --no-resave-data SpatialOmicsOverlay StartedAt: 2025-10-14 04:58:13 -0000 (Tue, 14 Oct 2025) EndedAt: 2025-10-14 05:38:13 -0000 (Tue, 14 Oct 2025) EllapsedTime: 2400.5 seconds RetCode: None Status: TIMEOUT PackageFile: None PackageFileSize: NA