Package: SpatialOmicsOverlay Version: 1.8.1 Command: /Library/Frameworks/R.framework/Resources/bin/R CMD INSTALL SpatialOmicsOverlay StartedAt: 2025-10-13 15:43:25 -0400 (Mon, 13 Oct 2025) EndedAt: 2025-10-13 15:44:02 -0400 (Mon, 13 Oct 2025) EllapsedTime: 37.3 seconds RetCode: 0 Status: OK