Package: SpatialOmicsOverlay Version: 1.8.1 Command: /Library/Frameworks/R.framework/Resources/bin/R CMD build --keep-empty-dirs --no-resave-data SpatialOmicsOverlay StartedAt: 2025-10-14 10:06:11 -0400 (Tue, 14 Oct 2025) EndedAt: 2025-10-14 10:14:32 -0400 (Tue, 14 Oct 2025) EllapsedTime: 500.7 seconds RetCode: 0 Status: OK PackageFile: SpatialOmicsOverlay_1.8.1.tar.gz PackageFileSize: 4.5 MiB