Package: SpatialOmicsOverlay Version: 1.8.1 Command: rm -rf SpatialOmicsOverlay.buildbin-libdir && mkdir SpatialOmicsOverlay.buildbin-libdir && /Users/biocbuild/BBS/utils/build-universal.sh SpatialOmicsOverlay_1.8.1.tar.gz /Library/Frameworks/R.framework/Resources/bin/R SpatialOmicsOverlay.buildbin-libdir StartedAt: 2025-10-15 20:39:06 -0400 (Wed, 15 Oct 2025) EndedAt: 2025-10-15 20:39:49 -0400 (Wed, 15 Oct 2025) EllapsedTime: 42.6 seconds RetCode: 0 Status: OK PackageFile: SpatialOmicsOverlay_1.8.1.tgz PackageFileSize: 4.683 MiB