Package: SpatialFeatureExperiment Version: 1.10.1 Command: /Library/Frameworks/R.framework/Resources/bin/R CMD INSTALL SpatialFeatureExperiment StartedAt: 2025-10-13 16:07:32 -0400 (Mon, 13 Oct 2025) EndedAt: 2025-10-13 16:09:44 -0400 (Mon, 13 Oct 2025) EllapsedTime: 131.9 seconds RetCode: 0 Status: OK