Package: SpatialFeatureExperiment Version: 1.10.1 Command: /Library/Frameworks/R.framework/Resources/bin/R CMD build --keep-empty-dirs --no-resave-data SpatialFeatureExperiment StartedAt: 2025-10-13 22:53:00 -0400 (Mon, 13 Oct 2025) EndedAt: 2025-10-13 22:57:57 -0400 (Mon, 13 Oct 2025) EllapsedTime: 297.2 seconds RetCode: 0 Status: OK PackageFile: SpatialFeatureExperiment_1.10.1.tar.gz PackageFileSize: 1.819 MiB