Package: SpatialFeatureExperiment Version: 1.10.1 Command: /home/biocbuild/R/R/bin/R CMD INSTALL SpatialFeatureExperiment StartedAt: 2025-10-13 20:53:11 -0000 (Mon, 13 Oct 2025) EndedAt: 2025-10-13 20:54:35 -0000 (Mon, 13 Oct 2025) EllapsedTime: 83.8 seconds RetCode: 0 Status: OK