Package: SpatialFeatureExperiment Version: 1.10.1 Command: /home/biocbuild/R/R/bin/R CMD build --keep-empty-dirs --no-resave-data SpatialFeatureExperiment StartedAt: 2025-10-14 04:57:58 -0000 (Tue, 14 Oct 2025) EndedAt: 2025-10-14 05:01:25 -0000 (Tue, 14 Oct 2025) EllapsedTime: 207.1 seconds RetCode: 0 Status: OK PackageFile: SpatialFeatureExperiment_1.10.1.tar.gz PackageFileSize: 1.877 MiB