Package: SpatialFeatureExperiment Version: 1.10.1 Command: /Library/Frameworks/R.framework/Resources/bin/R CMD INSTALL SpatialFeatureExperiment StartedAt: 2025-10-13 16:49:06 -0400 (Mon, 13 Oct 2025) EndedAt: 2025-10-13 16:50:11 -0400 (Mon, 13 Oct 2025) EllapsedTime: 64.8 seconds RetCode: 0 Status: OK