Package: SpatialFeatureExperiment Version: 1.10.1 Command: /Library/Frameworks/R.framework/Resources/bin/R CMD check --install=check:SpatialFeatureExperiment.install-out.txt --library=/Library/Frameworks/R.framework/Resources/library --no-vignettes --timings SpatialFeatureExperiment_1.10.1.tar.gz StartedAt: 2025-10-15 13:39:30 -0400 (Wed, 15 Oct 2025) EndedAt: 2025-10-15 14:05:17 -0400 (Wed, 15 Oct 2025) EllapsedTime: 1546.4 seconds RetCode: 1 Status: ERROR CheckDir: SpatialFeatureExperiment.Rcheck Warnings: NA