Package: SpatialFeatureExperiment Version: 1.10.1 Command: /Library/Frameworks/R.framework/Resources/bin/R CMD build --keep-empty-dirs --no-resave-data SpatialFeatureExperiment StartedAt: 2025-10-14 10:05:49 -0400 (Tue, 14 Oct 2025) EndedAt: 2025-10-14 10:08:33 -0400 (Tue, 14 Oct 2025) EllapsedTime: 164.6 seconds RetCode: 0 Status: OK PackageFile: SpatialFeatureExperiment_1.10.1.tar.gz PackageFileSize: 1.819 MiB